BEGIN:VCALENDAR
VERSION:2.0
PRODID:-//Fallbrook Vintage Car Club - ECPv6.15.20//NONSGML v1.0//EN
CALSCALE:GREGORIAN
METHOD:PUBLISH
X-ORIGINAL-URL:https://fallbrookvintagecarclub.org
X-WR-CALDESC:Events for Fallbrook Vintage Car Club
REFRESH-INTERVAL;VALUE=DURATION:PT1H
X-Robots-Tag:noindex
X-PUBLISHED-TTL:PT1H
BEGIN:VTIMEZONE
TZID:America/Los_Angeles
BEGIN:DAYLIGHT
TZOFFSETFROM:-0800
TZOFFSETTO:-0700
TZNAME:PDT
DTSTART:20240310T100000
END:DAYLIGHT
BEGIN:STANDARD
TZOFFSETFROM:-0700
TZOFFSETTO:-0800
TZNAME:PST
DTSTART:20241103T090000
END:STANDARD
BEGIN:DAYLIGHT
TZOFFSETFROM:-0800
TZOFFSETTO:-0700
TZNAME:PDT
DTSTART:20250309T100000
END:DAYLIGHT
BEGIN:STANDARD
TZOFFSETFROM:-0700
TZOFFSETTO:-0800
TZNAME:PST
DTSTART:20251102T090000
END:STANDARD
BEGIN:DAYLIGHT
TZOFFSETFROM:-0800
TZOFFSETTO:-0700
TZNAME:PDT
DTSTART:20260308T100000
END:DAYLIGHT
BEGIN:STANDARD
TZOFFSETFROM:-0700
TZOFFSETTO:-0800
TZNAME:PST
DTSTART:20261101T090000
END:STANDARD
END:VTIMEZONE
BEGIN:VEVENT
DTSTART;TZID=America/Los_Angeles:20251025T100000
DTEND;TZID=America/Los_Angeles:20251025T140000
DTSTAMP:20260425T125431
CREATED:20250313T193647Z
LAST-MODIFIED:20250313T193647Z
UID:10000254-1761386400-1761400800@fallbrookvintagecarclub.org
SUMMARY:Bonsall High School Car Show
DESCRIPTION:Bonsall High School car show\, 10am- 2pm. At Bonsall Elementary School.
URL:https://fallbrookvintagecarclub.org/event/bonsall-high-school-car-show-3/
LOCATION:Bonsall Elementary School\, 31555 Old River Road\, Bonsall\, CA\, 92003\, United States
CATEGORIES:Car Show
ORGANIZER;CN="Gary Hesser":MAILTO:garyhesser@gmail.com
GEO:33.2868927;-117.2194746
X-APPLE-STRUCTURED-LOCATION;VALUE=URI;X-ADDRESS=Bonsall Elementary School 31555 Old River Road Bonsall CA 92003 United States;X-APPLE-RADIUS=500;X-TITLE=31555 Old River Road:geo:-117.2194746,33.2868927
END:VEVENT
END:VCALENDAR