BEGIN:VCALENDAR
VERSION:2.0
PRODID:-//Fallbrook Vintage Car Club - ECPv6.15.20//NONSGML v1.0//EN
CALSCALE:GREGORIAN
METHOD:PUBLISH
X-ORIGINAL-URL:https://fallbrookvintagecarclub.org
X-WR-CALDESC:Events for Fallbrook Vintage Car Club
REFRESH-INTERVAL;VALUE=DURATION:PT1H
X-Robots-Tag:noindex
X-PUBLISHED-TTL:PT1H
BEGIN:VTIMEZONE
TZID:America/Los_Angeles
BEGIN:DAYLIGHT
TZOFFSETFROM:-0800
TZOFFSETTO:-0700
TZNAME:PDT
DTSTART:20250309T100000
END:DAYLIGHT
BEGIN:STANDARD
TZOFFSETFROM:-0700
TZOFFSETTO:-0800
TZNAME:PST
DTSTART:20251102T090000
END:STANDARD
BEGIN:DAYLIGHT
TZOFFSETFROM:-0800
TZOFFSETTO:-0700
TZNAME:PDT
DTSTART:20260308T100000
END:DAYLIGHT
BEGIN:STANDARD
TZOFFSETFROM:-0700
TZOFFSETTO:-0800
TZNAME:PST
DTSTART:20261101T090000
END:STANDARD
BEGIN:DAYLIGHT
TZOFFSETFROM:-0800
TZOFFSETTO:-0700
TZNAME:PDT
DTSTART:20270314T100000
END:DAYLIGHT
BEGIN:STANDARD
TZOFFSETFROM:-0700
TZOFFSETTO:-0800
TZNAME:PST
DTSTART:20271107T090000
END:STANDARD
END:VTIMEZONE
BEGIN:VEVENT
DTSTART;TZID=America/Los_Angeles:20260315T080000
DTEND;TZID=America/Los_Angeles:20260315T130000
DTSTAMP:20260425T033722
CREATED:20260213T232324Z
LAST-MODIFIED:20260213T232324Z
UID:10000320-1773561600-1773579600@fallbrookvintagecarclub.org
SUMMARY:Motors for Music car and music show at San Marcos High School
DESCRIPTION:Motors for Music car and music show at San Marcos High School. 1615 W. San Marcos Blvd.   Free admission.  Entering your car for lots of prizes?   Be there by 8:30 AM.\nFor car show entrants you can register day of show for $40.00 at the gate.  All proceeds go to the High School Bands..
URL:https://fallbrookvintagecarclub.org/event/motors-for-music-car-and-music-show-at-san-marcos-high-school/
LOCATION:San Marcos High School\, 1615 W. San Marcos Blvd\, San Marcos\, CA
CATEGORIES:Car Show
ORGANIZER;CN="Gary Hesser":MAILTO:garyhesser@gmail.com
GEO:33.130116;-117.2050831
X-APPLE-STRUCTURED-LOCATION;VALUE=URI;X-ADDRESS=San Marcos High School 1615 W. San Marcos Blvd San Marcos CA;X-APPLE-RADIUS=500;X-TITLE=1615 W. San Marcos Blvd:geo:-117.2050831,33.130116
END:VEVENT
BEGIN:VEVENT
DTSTART;TZID=America/Los_Angeles:20260315T133000
DTEND;TZID=America/Los_Angeles:20260315T170000
DTSTAMP:20260425T033722
CREATED:20260210T195613Z
LAST-MODIFIED:20260210T202011Z
UID:10000318-1773581400-1773594000@fallbrookvintagecarclub.org
SUMMARY:St. Patrick's Day Bash @ Christ Church
DESCRIPTION:2000 Reche\, Christ Church\, looking for GREEN cars to display starting at 2:00 PM.   Email Ron Mintle at Mintlesgarage@gmail.com if you can come and display your Green car…thanks! \nLast year’s Bash
URL:https://fallbrookvintagecarclub.org/event/sst-patricks-day-bash-christ-church/
LOCATION:CA
CATEGORIES:Car Show,Social Event
ORGANIZER;CN="Ron Mintle":MAILTO:MintlesGarage@gmail.com
END:VEVENT
END:VCALENDAR