BEGIN:VCALENDAR
VERSION:2.0
PRODID:-//Fallbrook Vintage Car Club - ECPv6.15.20//NONSGML v1.0//EN
CALSCALE:GREGORIAN
METHOD:PUBLISH
X-ORIGINAL-URL:https://fallbrookvintagecarclub.org
X-WR-CALDESC:Events for Fallbrook Vintage Car Club
REFRESH-INTERVAL;VALUE=DURATION:PT1H
X-Robots-Tag:noindex
X-PUBLISHED-TTL:PT1H
BEGIN:VTIMEZONE
TZID:America/Los_Angeles
BEGIN:DAYLIGHT
TZOFFSETFROM:-0800
TZOFFSETTO:-0700
TZNAME:PDT
DTSTART:20230312T100000
END:DAYLIGHT
BEGIN:STANDARD
TZOFFSETFROM:-0700
TZOFFSETTO:-0800
TZNAME:PST
DTSTART:20231105T090000
END:STANDARD
BEGIN:DAYLIGHT
TZOFFSETFROM:-0800
TZOFFSETTO:-0700
TZNAME:PDT
DTSTART:20240310T100000
END:DAYLIGHT
BEGIN:STANDARD
TZOFFSETFROM:-0700
TZOFFSETTO:-0800
TZNAME:PST
DTSTART:20241103T090000
END:STANDARD
BEGIN:DAYLIGHT
TZOFFSETFROM:-0800
TZOFFSETTO:-0700
TZNAME:PDT
DTSTART:20250309T100000
END:DAYLIGHT
BEGIN:STANDARD
TZOFFSETFROM:-0700
TZOFFSETTO:-0800
TZNAME:PST
DTSTART:20251102T090000
END:STANDARD
END:VTIMEZONE
BEGIN:VEVENT
DTSTART;TZID=America/Los_Angeles:20240904T140000
DTEND;TZID=America/Los_Angeles:20240904T163000
DTSTAMP:20260419T230517
CREATED:20240816T223312Z
LAST-MODIFIED:20240821T173641Z
UID:10000182-1725458400-1725467400@fallbrookvintagecarclub.org
SUMMARY:Board Meeting
DESCRIPTION:FPUD
URL:https://fallbrookvintagecarclub.org/event/board-meeting-26/
LOCATION:FPUD\, 713 South Main St\, Fallbrook\, CA\, 92028\, United States
CATEGORIES:FVCC Event,Meeting
ORGANIZER;CN="Steve Shapiro":MAILTO:sshap@sbcglobal.net
END:VEVENT
BEGIN:VEVENT
DTSTART;TZID=America/Los_Angeles:20240905T110000
DTEND;TZID=America/Los_Angeles:20240905T140000
DTSTAMP:20260419T230517
CREATED:20240712T004108Z
LAST-MODIFIED:20240821T173108Z
UID:10000161-1725534000-1725544800@fallbrookvintagecarclub.org
SUMMARY:ROMEO
DESCRIPTION:Village Roots \nCars 11:00 \nLunch 11:30
URL:https://fallbrookvintagecarclub.org/event/romeo-24/
LOCATION:Village Roots\, North Main Avenue\, Fallbrook\, California\, 92028\, United States
CATEGORIES:FVCC Event,Social Event
ORGANIZER;CN="Doug Allen":MAILTO:Piperarcher47@gmail.com
GEO:33.3827003;-117.2515165
X-APPLE-STRUCTURED-LOCATION;VALUE=URI;X-ADDRESS=Village Roots North Main Avenue Fallbrook California 92028 United States;X-APPLE-RADIUS=500;X-TITLE=North Main Avenue:geo:-117.2515165,33.3827003
END:VEVENT
BEGIN:VEVENT
DTSTART;TZID=America/Los_Angeles:20240905T183000
DTEND;TZID=America/Los_Angeles:20240905T203000
DTSTAMP:20260419T230517
CREATED:20240905T223828Z
LAST-MODIFIED:20240905T223828Z
UID:10000194-1725561000-1725568200@fallbrookvintagecarclub.org
SUMMARY:General Meeting
DESCRIPTION:11/19 Tuesday 6:30 General Meeting White Elephant Auction night
URL:https://fallbrookvintagecarclub.org/event/general-meeting-21/
LOCATION:Crossway Community Church\, 731 S Stage Coach Lane\, Fallbrook\, CA\, 92028\, United States
CATEGORIES:FVCC Event,Meeting
ORGANIZER;CN="Steve Shapiro":MAILTO:sshap@sbcglobal.net
END:VEVENT
BEGIN:VEVENT
DTSTART;VALUE=DATE:20240912
DTEND;VALUE=DATE:20240913
DTSTAMP:20260419T230517
CREATED:20240703T225111Z
LAST-MODIFIED:20240827T215931Z
UID:10000156-1726099200-1726185599@fallbrookvintagecarclub.org
SUMMARY:Midway Museum Tour
DESCRIPTION: What: Special FVCC tour on the Midway Museum carrier conducted by Jim Binford who has at sea experience on seven US and British carriers including USS MIDWAY. This tour will concentrate on carrier at sea operations\, primarily from the bridge perspective\, Combat Information Center (CIC)\, and Flag Plot War Room. However\, attendees will be able to tour Midway’s other exhibits including flight deck aircraft\, launch and recovery briefs\, and movie Battle of Midway\, engineering spaces and fire damage control. I recommend picking up the audio handset at the start of the tour for the remainder of the tour. \nWhen:   Meet at 0730 for instruction and receive admission tickets. Depart NLT 0745 on 12 September 2024 from HWY 15/76 Park and Ride.  The reason for early departure is highway construction traffic and plan to board Midway at 0900 before the Museum opens to the public at 1000. Double up in car rides since public parking at the pier is now $20 per car and to use HOV lanes. \nParticulars: Cost is a discounted group rate of $25 per person Use the following link to sign up to purchase tickets. ( https://Fallbrookvintagecarclub.org/product/midway-museum-tour/ NLT 30 August. When you sign up\, indicate if you will be doing the BRIDGE tour(B) or the general ship tour (GS) spaces which will indicate which group you will be assigned. Sign up early since can only accommodate 20 persons per Bridge tour at a time due small space. May have to cap bridge attendees at 40 (two groups) – can accommodate any number rest of the Midway tour. \nWear comfortable walking shoes and shorts/ slacks. Ladies no dresses as will be doing some inclined ship ladder (Stairs) climbing. We will also have lunch onboard Midway (own cost) at the Midway Café which serves grilled sandwiches/ beer / wine. Free to leave after lunch or continue the audio tour of the ship. \nThere are several flight levels on the Island to reach the Bridge / Pri Fly with inclined ship stairs but with handrails. Also\, there are elevators to/from the Hanger Deck ship entry to the Flight Deck. \nWhen you sign up\, indicate if you will be doing the BRIDGE tour (B) or the General Ship tour (GS) spaces.  This will indicate to which group you will be assigned. \nNote: When considering a bridge tour there are four flight levels from the flight deck in the Island to reach the Bridge / Pri Fly using inclined ship ladders (stairs) only but with handrails\, however consider what goes up must come down if mobility challenged. There is a small elevator to/ from the Hanger Deck ship entry to the flight deck but no elevator to the bridge. \nWe hope you will be able to attend. Tickets will be good for six months in the event you have to cancel. \nQuestions: – contact Jim Binford bjbrsa14@roadrunner.com or 760-728-6393. \nAnnouncement: Jim Bindord will be conducting a carrier briefing at the FVCC general meeting 27 August which should provide additional carrier information as a precursor to the Midway tour. \n  \n  \n 
URL:https://fallbrookvintagecarclub.org/event/midway-museum-tour/
LOCATION:Midway Museam\, North Harbor Drive\, San Diego\, CA\, 92101\, United States
CATEGORIES:FVCC Event,Tour
ORGANIZER;CN="Jim Binford":MAILTO:bjbrsa14@roadrunner.com
GEO:32.7137398;-117.1751265
X-APPLE-STRUCTURED-LOCATION;VALUE=URI;X-ADDRESS=Midway Museam North Harbor Drive San Diego CA 92101 United States;X-APPLE-RADIUS=500;X-TITLE=North Harbor Drive:geo:-117.1751265,32.7137398
END:VEVENT
BEGIN:VEVENT
DTSTART;TZID=America/Los_Angeles:20240913T183000
DTEND;TZID=America/Los_Angeles:20240913T203000
DTSTAMP:20260419T230517
CREATED:20240914T002137Z
LAST-MODIFIED:20240914T002137Z
UID:10000198-1726252200-1726259400@fallbrookvintagecarclub.org
SUMMARY:General Meeting
DESCRIPTION:White Elephant hosted by Bill and Robin which resulted in a few expletives\nfrom Bill\, \nRobin offers to play Vanna White\, and Kathy plans to take the money.
URL:https://fallbrookvintagecarclub.org/event/general-meeting-22/
LOCATION:Crossway Community Church\, 731 S Stage Coach Lane\, Fallbrook\, CA\, 92028\, United States
CATEGORIES:FVCC Event,Meeting
ORGANIZER;CN="Steve Shapiro":MAILTO:sshap@sbcglobal.net
END:VEVENT
BEGIN:VEVENT
DTSTART;VALUE=DATE:20240914
DTEND;VALUE=DATE:20240924
DTSTAMP:20260419T230517
CREATED:20240712T004512Z
LAST-MODIFIED:20240714T225355Z
UID:10000163-1726272000-1727135999@fallbrookvintagecarclub.org
SUMMARY:RV Group leaves for Angels Camp/Murphys/Gold Country
DESCRIPTION:9 days RV trip \nTime to meet TBA
URL:https://fallbrookvintagecarclub.org/event/rv-group-leaves-for-angels-camp-murphys-gold-country/
LOCATION:Park N Ride\, 3446-3546 Old Highway 395\, Fallbrook\, CA\, 92028\, United States
CATEGORIES:FVCC Event,RV Trip
ORGANIZER;CN="Kathy Hesser":MAILTO:kathy.hesser@gmail.com
END:VEVENT
BEGIN:VEVENT
DTSTART;TZID=America/Los_Angeles:20240924T183000
DTEND;TZID=America/Los_Angeles:20240924T203000
DTSTAMP:20260419T230517
CREATED:20240905T222953Z
LAST-MODIFIED:20240905T223128Z
UID:10000191-1727202600-1727209800@fallbrookvintagecarclub.org
SUMMARY:General Meeting
DESCRIPTION:9/24 Tuesday 6:30 General Meeting Topic: Engine Builds
URL:https://fallbrookvintagecarclub.org/event/general-meeting-19/
LOCATION:Crossway Community Church\, 731 S Stage Coach Lane\, Fallbrook\, CA\, 92028\, United States
CATEGORIES:FVCC Event,Meeting
ORGANIZER;CN="Steve Shapiro":MAILTO:sshap@sbcglobal.net
END:VEVENT
BEGIN:VEVENT
DTSTART;TZID=America/Los_Angeles:20240927T120000
DTEND;TZID=America/Los_Angeles:20240927T140000
DTSTAMP:20260419T230517
CREATED:20240923T182631Z
LAST-MODIFIED:20240924T235742Z
UID:10000200-1727438400-1727445600@fallbrookvintagecarclub.org
SUMMARY:JULIET
DESCRIPTION:Attention Car Club Ladies! \nLocation Update! \nDue to some issues at Pala Mesa\, the September JULIET luncheon has been moved to Cafe Des Artistes in town. The luncheon is still on Friday\, September 27 at noon. \nPlease RSVP to Sheila Luedtke –  Sheila.m.luedtke@gmail.com or 860-749-7049 if you plan to attend. \nSee you there!\nSheila\n\n\n\nPlease RSVP to Sheila Luedtke –  Sheila.m.luedtke@gmail.com or 860-749-7049 if you plan to attend.
URL:https://fallbrookvintagecarclub.org/event/juliet-14/
LOCATION:Café Des Artistes\, Fallbrook\, CA\, 103 S. Main Ave\, United States
CATEGORIES:FVCC Event,Social Event
ORGANIZER;CN="Sheila Luedtke":MAILTO:sheila.m.luedtke@gmail.com
GEO:33.3819232;-117.2516801
END:VEVENT
END:VCALENDAR