BEGIN:VCALENDAR
VERSION:2.0
PRODID:-//Fallbrook Vintage Car Club - ECPv6.15.20//NONSGML v1.0//EN
CALSCALE:GREGORIAN
METHOD:PUBLISH
X-ORIGINAL-URL:https://fallbrookvintagecarclub.org
X-WR-CALDESC:Events for Fallbrook Vintage Car Club
REFRESH-INTERVAL;VALUE=DURATION:PT1H
X-Robots-Tag:noindex
X-PUBLISHED-TTL:PT1H
BEGIN:VTIMEZONE
TZID:America/Los_Angeles
BEGIN:DAYLIGHT
TZOFFSETFROM:-0800
TZOFFSETTO:-0700
TZNAME:PDT
DTSTART:20230312T100000
END:DAYLIGHT
BEGIN:STANDARD
TZOFFSETFROM:-0700
TZOFFSETTO:-0800
TZNAME:PST
DTSTART:20231105T090000
END:STANDARD
BEGIN:DAYLIGHT
TZOFFSETFROM:-0800
TZOFFSETTO:-0700
TZNAME:PDT
DTSTART:20240310T100000
END:DAYLIGHT
BEGIN:STANDARD
TZOFFSETFROM:-0700
TZOFFSETTO:-0800
TZNAME:PST
DTSTART:20241103T090000
END:STANDARD
BEGIN:DAYLIGHT
TZOFFSETFROM:-0800
TZOFFSETTO:-0700
TZNAME:PDT
DTSTART:20250309T100000
END:DAYLIGHT
BEGIN:STANDARD
TZOFFSETFROM:-0700
TZOFFSETTO:-0800
TZNAME:PST
DTSTART:20251102T090000
END:STANDARD
END:VTIMEZONE
BEGIN:VEVENT
DTSTART;TZID=America/Los_Angeles:20241111T100000
DTEND;TZID=America/Los_Angeles:20241111T130000
DTSTAMP:20260420T164956
CREATED:20240714T223925Z
LAST-MODIFIED:20240914T002655Z
UID:10000175-1731319200-1731330000@fallbrookvintagecarclub.org
SUMMARY:Veteran's Day Parade
DESCRIPTION:Main Avenue Fallbrook \nNeed an organizer \nTerry will check with the Chamber on the number of cars needed.
URL:https://fallbrookvintagecarclub.org/event/veterans-day-parade/
LOCATION:Downtown Fallbrook\, Downtown Fallbrook\, Fallbrook\, CA\, 92028\, United States
CATEGORIES:Parade
GEO:33.371078;-117.2189821
X-APPLE-STRUCTURED-LOCATION;VALUE=URI;X-ADDRESS=Downtown Fallbrook Downtown Fallbrook Fallbrook CA 92028 United States;X-APPLE-RADIUS=500;X-TITLE=Downtown Fallbrook:geo:-117.2189821,33.371078
END:VEVENT
END:VCALENDAR