BEGIN:VCALENDAR
VERSION:2.0
PRODID:-//Fallbrook Vintage Car Club - ECPv6.15.20//NONSGML v1.0//EN
CALSCALE:GREGORIAN
METHOD:PUBLISH
X-WR-CALNAME:Fallbrook Vintage Car Club
X-ORIGINAL-URL:https://fallbrookvintagecarclub.org
X-WR-CALDESC:Events for Fallbrook Vintage Car Club
REFRESH-INTERVAL;VALUE=DURATION:PT1H
X-Robots-Tag:noindex
X-PUBLISHED-TTL:PT1H
BEGIN:VTIMEZONE
TZID:America/Los_Angeles
BEGIN:DAYLIGHT
TZOFFSETFROM:-0800
TZOFFSETTO:-0700
TZNAME:PDT
DTSTART:20230312T100000
END:DAYLIGHT
BEGIN:STANDARD
TZOFFSETFROM:-0700
TZOFFSETTO:-0800
TZNAME:PST
DTSTART:20231105T090000
END:STANDARD
BEGIN:DAYLIGHT
TZOFFSETFROM:-0800
TZOFFSETTO:-0700
TZNAME:PDT
DTSTART:20240310T100000
END:DAYLIGHT
BEGIN:STANDARD
TZOFFSETFROM:-0700
TZOFFSETTO:-0800
TZNAME:PST
DTSTART:20241103T090000
END:STANDARD
BEGIN:DAYLIGHT
TZOFFSETFROM:-0800
TZOFFSETTO:-0700
TZNAME:PDT
DTSTART:20250309T100000
END:DAYLIGHT
BEGIN:STANDARD
TZOFFSETFROM:-0700
TZOFFSETTO:-0800
TZNAME:PST
DTSTART:20251102T090000
END:STANDARD
END:VTIMEZONE
BEGIN:VEVENT
DTSTART;TZID=America/Los_Angeles:20241207T153000
DTEND;TZID=America/Los_Angeles:20241207T200000
DTSTAMP:20260420T151131
CREATED:20241114T011957Z
LAST-MODIFIED:20241114T011957Z
UID:10000213-1733585400-1733601600@fallbrookvintagecarclub.org
SUMMARY:Fallbrook Christmas Parade - Festival of Lights
DESCRIPTION:Downtown Fallbrook \nIf you would like to be in the Parade\, please let Steve Shapiro or Terry Decker know the make\, model\, and year of your car.  Also\, if you can take VIPs in your ride\, tell him how many persons can be in your car. They will give you further instructions after you sign up! \nEntries are REQUIRED TO PRESENT A HOLIDAY THEME. \nThe Chamber of Commerce reserves the sole right to turn away any unit deemed not in keeping with the holiday spirt prior\, to or during\, the parade.  PLEASE DECORATE YOUR ENTRY AND USE LIGHTS IN YOU CAN. \n 
URL:https://fallbrookvintagecarclub.org/event/fallbrook-christmas-parade-festival-of-lights/
LOCATION:Downtown Fallbrook\, Downtown Fallbrook\, Fallbrook\, CA\, 92028\, United States
CATEGORIES:Parade
ORGANIZER;CN="Terry Decker":MAILTO:terrydckr@gmail.com
GEO:33.371078;-117.2189821
X-APPLE-STRUCTURED-LOCATION;VALUE=URI;X-ADDRESS=Downtown Fallbrook Downtown Fallbrook Fallbrook CA 92028 United States;X-APPLE-RADIUS=500;X-TITLE=Downtown Fallbrook:geo:-117.2189821,33.371078
END:VEVENT
END:VCALENDAR