BEGIN:VCALENDAR
VERSION:2.0
PRODID:-//Fallbrook Vintage Car Club - ECPv6.15.20//NONSGML v1.0//EN
CALSCALE:GREGORIAN
METHOD:PUBLISH
X-ORIGINAL-URL:https://fallbrookvintagecarclub.org
X-WR-CALDESC:Events for Fallbrook Vintage Car Club
REFRESH-INTERVAL;VALUE=DURATION:PT1H
X-Robots-Tag:noindex
X-PUBLISHED-TTL:PT1H
BEGIN:VTIMEZONE
TZID:America/Los_Angeles
BEGIN:DAYLIGHT
TZOFFSETFROM:-0800
TZOFFSETTO:-0700
TZNAME:PDT
DTSTART:20240310T100000
END:DAYLIGHT
BEGIN:STANDARD
TZOFFSETFROM:-0700
TZOFFSETTO:-0800
TZNAME:PST
DTSTART:20241103T090000
END:STANDARD
BEGIN:DAYLIGHT
TZOFFSETFROM:-0800
TZOFFSETTO:-0700
TZNAME:PDT
DTSTART:20250309T100000
END:DAYLIGHT
BEGIN:STANDARD
TZOFFSETFROM:-0700
TZOFFSETTO:-0800
TZNAME:PST
DTSTART:20251102T090000
END:STANDARD
BEGIN:DAYLIGHT
TZOFFSETFROM:-0800
TZOFFSETTO:-0700
TZNAME:PDT
DTSTART:20260308T100000
END:DAYLIGHT
BEGIN:STANDARD
TZOFFSETFROM:-0700
TZOFFSETTO:-0800
TZNAME:PST
DTSTART:20261101T090000
END:STANDARD
END:VTIMEZONE
BEGIN:VEVENT
DTSTART;TZID=America/Los_Angeles:20250310T143000
DTEND;TZID=America/Los_Angeles:20250310T163000
DTSTAMP:20260419T083436
CREATED:20241115T000710Z
LAST-MODIFIED:20250115T194811Z
UID:10000219-1741617000-1741624200@fallbrookvintagecarclub.org
SUMMARY:Car Show Meeting
DESCRIPTION:FPUD
URL:https://fallbrookvintagecarclub.org/event/car-show-meeting-19/
LOCATION:FPUD\, 713 South Main St\, Fallbrook\, CA\, 92028\, United States
CATEGORIES:FVCC Event,Meeting
ORGANIZER;CN="Gary Hesser":MAILTO:garyhesser@gmail.com
END:VEVENT
BEGIN:VEVENT
DTSTART;TZID=America/Los_Angeles:20250313T153000
DTEND;TZID=America/Los_Angeles:20250313T173000
DTSTAMP:20260419T083436
CREATED:20241107T011842Z
LAST-MODIFIED:20250222T202426Z
UID:10000206-1741879800-1741887000@fallbrookvintagecarclub.org
SUMMARY:FVCC Board Meeting
DESCRIPTION:3:30 at FPUD
URL:https://fallbrookvintagecarclub.org/event/fvcc-board-meeting-5/
LOCATION:FPUD\, 713 South Main St\, Fallbrook\, CA\, 92028\, United States
CATEGORIES:FVCC Event,Meeting
ORGANIZER;CN="Steve Shapiro":MAILTO:sshap@sbcglobal.net
END:VEVENT
BEGIN:VEVENT
DTSTART;TZID=America/Los_Angeles:20250316T090000
DTEND;TZID=America/Los_Angeles:20250316T123000
DTSTAMP:20260419T083436
CREATED:20250313T191931Z
LAST-MODIFIED:20250313T191931Z
UID:10000251-1742115600-1742128200@fallbrookvintagecarclub.org
SUMMARY:Motors 4 Music Car Show
DESCRIPTION:Motors 4 Music Car Show at San Marcos High School 9 – 12:30 PM.  Registration is $35.00\, and proceeds to the San Maracos High School Band.  Terry sent flyer.
URL:https://fallbrookvintagecarclub.org/event/motors-4-music-car-show/
LOCATION:San Marcos High School\, 1615 W. San Marcos Blvd\, San Marcos\, CA
CATEGORIES:Car Show
ORGANIZER;CN="Terry Decker":MAILTO:terrydckr@gmail.com
GEO:33.130116;-117.2050831
X-APPLE-STRUCTURED-LOCATION;VALUE=URI;X-ADDRESS=San Marcos High School 1615 W. San Marcos Blvd San Marcos CA;X-APPLE-RADIUS=500;X-TITLE=1615 W. San Marcos Blvd:geo:-117.2050831,33.130116
END:VEVENT
BEGIN:VEVENT
DTSTART;TZID=America/Los_Angeles:20250320T110000
DTEND;TZID=America/Los_Angeles:20250320T133000
DTSTAMP:20260419T083436
CREATED:20241107T181311Z
LAST-MODIFIED:20250222T202904Z
UID:10000210-1742468400-1742477400@fallbrookvintagecarclub.org
SUMMARY:ROMEO
DESCRIPTION:Party Burgers \nCars – 11:00 \nLunch –  11:30
URL:https://fallbrookvintagecarclub.org/event/romeo-30/
LOCATION:Party Burgers\, 121 N. Pico Avenue\, Fallbrook\, CA
CATEGORIES:FVCC Event,Social Event
ORGANIZER;CN="Gary Hesser":MAILTO:garyhesser@gmail.com
GEO:33.3825202;-117.2522812
X-APPLE-STRUCTURED-LOCATION;VALUE=URI;X-ADDRESS=Party Burgers 121 N. Pico Avenue Fallbrook CA;X-APPLE-RADIUS=500;X-TITLE=121 N. Pico Avenue:geo:-117.2522812,33.3825202
END:VEVENT
BEGIN:VEVENT
DTSTART;TZID=America/Los_Angeles:20250321T120000
DTEND;TZID=America/Los_Angeles:20250321T140000
DTSTAMP:20260419T083436
CREATED:20241231T234010Z
LAST-MODIFIED:20241231T234010Z
UID:10000226-1742558400-1742565600@fallbrookvintagecarclub.org
SUMMARY:JULIET
DESCRIPTION:Peking Wok
URL:https://fallbrookvintagecarclub.org/event/juliet-19/
LOCATION:Peking Wok\, 5256 S Mission Rd Ste 303\, Bonsall\, CA\, 92003\, United States
CATEGORIES:FVCC Event,Social Event
ORGANIZER;CN="Sheila Luedtke":MAILTO:sheila.m.luedtke@gmail.com
GEO:33.2962069;-117.2221523
X-APPLE-STRUCTURED-LOCATION;VALUE=URI;X-ADDRESS=Peking Wok 5256 S Mission Rd Ste 303 Bonsall CA 92003 United States;X-APPLE-RADIUS=500;X-TITLE=5256 S Mission Rd Ste 303:geo:-117.2221523,33.2962069
END:VEVENT
BEGIN:VEVENT
DTSTART;TZID=America/Los_Angeles:20250325T150000
DTEND;TZID=America/Los_Angeles:20250325T170000
DTSTAMP:20260419T083436
CREATED:20250222T203203Z
LAST-MODIFIED:20250314T164825Z
UID:10000242-1742914800-1742922000@fallbrookvintagecarclub.org
SUMMARY:General Meeting
DESCRIPTION:3/25 General Meeting 3 pm Prohibition Brewery \nMeet at Park and Ride at 2:30 for a cruise to Prohibition. \nSomething different this month.  Please note the time and location. \n 
URL:https://fallbrookvintagecarclub.org/event/general-meeting-24/
LOCATION:Prohibition Brewery\, East Vista Way\, Vista\, California\, 92084\, United States
CATEGORIES:FVCC Event,Meeting
ORGANIZER;CN="Steve Shapiro":MAILTO:sshap@sbcglobal.net
GEO:33.2304626;-117.2266038
X-APPLE-STRUCTURED-LOCATION;VALUE=URI;X-ADDRESS=Prohibition Brewery East Vista Way Vista California 92084 United States;X-APPLE-RADIUS=500;X-TITLE=East Vista Way:geo:-117.2266038,33.2304626
END:VEVENT
END:VCALENDAR