BEGIN:VCALENDAR
VERSION:2.0
PRODID:-//Fallbrook Vintage Car Club - ECPv6.15.20//NONSGML v1.0//EN
CALSCALE:GREGORIAN
METHOD:PUBLISH
X-ORIGINAL-URL:https://fallbrookvintagecarclub.org
X-WR-CALDESC:Events for Fallbrook Vintage Car Club
REFRESH-INTERVAL;VALUE=DURATION:PT1H
X-Robots-Tag:noindex
X-PUBLISHED-TTL:PT1H
BEGIN:VTIMEZONE
TZID:America/Los_Angeles
BEGIN:DAYLIGHT
TZOFFSETFROM:-0800
TZOFFSETTO:-0700
TZNAME:PDT
DTSTART:20220313T100000
END:DAYLIGHT
BEGIN:STANDARD
TZOFFSETFROM:-0700
TZOFFSETTO:-0800
TZNAME:PST
DTSTART:20221106T090000
END:STANDARD
BEGIN:DAYLIGHT
TZOFFSETFROM:-0800
TZOFFSETTO:-0700
TZNAME:PDT
DTSTART:20230312T100000
END:DAYLIGHT
BEGIN:STANDARD
TZOFFSETFROM:-0700
TZOFFSETTO:-0800
TZNAME:PST
DTSTART:20231105T090000
END:STANDARD
BEGIN:DAYLIGHT
TZOFFSETFROM:-0800
TZOFFSETTO:-0700
TZNAME:PDT
DTSTART:20240310T100000
END:DAYLIGHT
BEGIN:STANDARD
TZOFFSETFROM:-0700
TZOFFSETTO:-0800
TZNAME:PST
DTSTART:20241103T090000
END:STANDARD
BEGIN:DAYLIGHT
TZOFFSETFROM:-0800
TZOFFSETTO:-0700
TZNAME:PDT
DTSTART:20250309T100000
END:DAYLIGHT
BEGIN:STANDARD
TZOFFSETFROM:-0700
TZOFFSETTO:-0800
TZNAME:PST
DTSTART:20251102T090000
END:STANDARD
BEGIN:DAYLIGHT
TZOFFSETFROM:-0800
TZOFFSETTO:-0700
TZNAME:PDT
DTSTART:20260308T100000
END:DAYLIGHT
BEGIN:STANDARD
TZOFFSETFROM:-0700
TZOFFSETTO:-0800
TZNAME:PST
DTSTART:20261101T090000
END:STANDARD
END:VTIMEZONE
BEGIN:VEVENT
DTSTART;TZID=America/Los_Angeles:20251213T093000
DTEND;TZID=America/Los_Angeles:20251213T130000
DTSTAMP:20260419T190926
CREATED:20251104T195315Z
LAST-MODIFIED:20251104T195315Z
UID:10000290-1765618200-1765630800@fallbrookvintagecarclub.org
SUMMARY:Toys for Tots
DESCRIPTION:Bring an unwrapped toy for a Marine family. \nFree lunch for vintage car drivers.
URL:https://fallbrookvintagecarclub.org/event/toys-for-tots-4/
LOCATION:Fallbrook Airpartk\, 2155 Air Park Road\, Fallbrook\, CA\, 92028\, United States
CATEGORIES:Car Show
ORGANIZER;CN="Doug Allen":MAILTO:Piperarcher47@gmail.com
END:VEVENT
BEGIN:VEVENT
DTSTART;TZID=America/Los_Angeles:20241224T100000
DTEND;TZID=America/Los_Angeles:20241224T130000
DTSTAMP:20260419T190926
CREATED:20240821T174050Z
LAST-MODIFIED:20240821T174249Z
UID:10000187-1735034400-1735045200@fallbrookvintagecarclub.org
SUMMARY:Toys for Tots
DESCRIPTION:12/24 Saturday 10:00 – 1:00 Fallbrook Airpark.
URL:https://fallbrookvintagecarclub.org/event/toys-for-tots-2/
LOCATION:Fallbrook Airpartk\, 2155 Air Park Road\, Fallbrook\, CA\, 92028\, United States
CATEGORIES:Social Event
ORGANIZER;CN="Doug Allen":MAILTO:Piperarcher47@gmail.com
END:VEVENT
BEGIN:VEVENT
DTSTART;TZID=America/Los_Angeles:20241214T100000
DTEND;TZID=America/Los_Angeles:20241214T130000
DTSTAMP:20260419T190926
CREATED:20240924T005207Z
LAST-MODIFIED:20240924T005207Z
UID:10000201-1734170400-1734181200@fallbrookvintagecarclub.org
SUMMARY:Toys for Tots
DESCRIPTION:10:00 – 1:00 Toys for Tots Air Park\, Bring Cars and New Toys
URL:https://fallbrookvintagecarclub.org/event/toys-for-tots-3/
LOCATION:Fallbrook Airpartk\, 2155 Air Park Road\, Fallbrook\, CA\, 92028\, United States
ORGANIZER;CN="Doug Allen":MAILTO:Piperarcher47@gmail.com
END:VEVENT
BEGIN:VEVENT
DTSTART;TZID=America/Los_Angeles:20240914T163000
DTEND;TZID=America/Los_Angeles:20240914T200000
DTSTAMP:20260419T190926
CREATED:20240827T002630Z
LAST-MODIFIED:20240827T002630Z
UID:10000189-1726331400-1726344000@fallbrookvintagecarclub.org
SUMMARY:Spaghetti Night!
DESCRIPTION:It’s time for Spaghetti Night! \nThis Event is Sponsored by the Friends of Fallbrook Community Airpark (FFCAP) \nSeveral people from the Car Club have attended the annual Spaghetti Night at Fallbrook Airpark in years past. This year it is on Saturday\, September 14\, at 6:00 PM. \n$14 per person (no tips required or expected). \nIt’s a well-attended community event for both Airpark pilots\, and the public. It is held in a very large hangar. They put some vintage planes on display\, and offer a full meal of spaghetti\, special on sight made meat sauce or Marinera\, garlic bread\, salad\, dessert\, drinks including beer and wine\, soft drinks\, and water. This is the nominal menu\, with possibilities of additions and substitutions. \nYou won’t go away hungry. \nWe would like 5 or 6 FVCC cars to display with the planes. We do want to keep to that number to make sure there is room for the planes and some other cars from other pilot sources. \nWe would like the cars there by 4:30 PM\, and dinner starts at 6 PM.  There is room for everyone\, but we need a count of approximately how many. If anyone wants to help setup after placing their cars\, or those without cars\, then stick around after 4:30 for setup (there will be a lot of help for setup\, so helping is more of a community thing rather than a big need). \nCasual RSVPs to determine approximate participation headcount\, is needed by Monday\, 2 September to piperarcher47@gmail.com.
URL:https://fallbrookvintagecarclub.org/event/spaghetti-night/
LOCATION:Fallbrook Airpartk\, 2155 Air Park Road\, Fallbrook\, CA\, 92028\, United States
CATEGORIES:Social Event
ORGANIZER;CN="Doug Allen":MAILTO:Piperarcher47@gmail.com
END:VEVENT
BEGIN:VEVENT
DTSTART;TZID=America/Los_Angeles:20231209T100000
DTEND;TZID=America/Los_Angeles:20231209T130000
DTSTAMP:20260419T190926
CREATED:20230828T203034Z
LAST-MODIFIED:20230828T203034Z
UID:10000065-1702116000-1702126800@fallbrookvintagecarclub.org
SUMMARY:Mini Car Show 2023 Toys For Tots Collection Drive
DESCRIPTION:Mini Car show at the Air Field.  Doug to advise times
URL:https://fallbrookvintagecarclub.org/event/mini-car-show-2023-toys-for-tots-collection-drive/
LOCATION:Fallbrook Airpartk\, 2155 Air Park Road\, Fallbrook\, CA\, 92028\, United States
CATEGORIES:Car Show
ORGANIZER;CN="Doug Allen":MAILTO:Piperarcher47@gmail.com
END:VEVENT
END:VCALENDAR