BEGIN:VCALENDAR
VERSION:2.0
PRODID:-//Fallbrook Vintage Car Club - ECPv6.15.20//NONSGML v1.0//EN
CALSCALE:GREGORIAN
METHOD:PUBLISH
X-ORIGINAL-URL:https://fallbrookvintagecarclub.org
X-WR-CALDESC:Events for Fallbrook Vintage Car Club
REFRESH-INTERVAL;VALUE=DURATION:PT1H
X-Robots-Tag:noindex
X-PUBLISHED-TTL:PT1H
BEGIN:VTIMEZONE
TZID:America/Los_Angeles
BEGIN:DAYLIGHT
TZOFFSETFROM:-0800
TZOFFSETTO:-0700
TZNAME:PDT
DTSTART:20220313T100000
END:DAYLIGHT
BEGIN:STANDARD
TZOFFSETFROM:-0700
TZOFFSETTO:-0800
TZNAME:PST
DTSTART:20221106T090000
END:STANDARD
BEGIN:DAYLIGHT
TZOFFSETFROM:-0800
TZOFFSETTO:-0700
TZNAME:PDT
DTSTART:20230312T100000
END:DAYLIGHT
BEGIN:STANDARD
TZOFFSETFROM:-0700
TZOFFSETTO:-0800
TZNAME:PST
DTSTART:20231105T090000
END:STANDARD
BEGIN:DAYLIGHT
TZOFFSETFROM:-0800
TZOFFSETTO:-0700
TZNAME:PDT
DTSTART:20240310T100000
END:DAYLIGHT
BEGIN:STANDARD
TZOFFSETFROM:-0700
TZOFFSETTO:-0800
TZNAME:PST
DTSTART:20241103T090000
END:STANDARD
BEGIN:DAYLIGHT
TZOFFSETFROM:-0800
TZOFFSETTO:-0700
TZNAME:PDT
DTSTART:20250309T100000
END:DAYLIGHT
BEGIN:STANDARD
TZOFFSETFROM:-0700
TZOFFSETTO:-0800
TZNAME:PST
DTSTART:20251102T090000
END:STANDARD
BEGIN:DAYLIGHT
TZOFFSETFROM:-0800
TZOFFSETTO:-0700
TZNAME:PDT
DTSTART:20260308T100000
END:DAYLIGHT
BEGIN:STANDARD
TZOFFSETFROM:-0700
TZOFFSETTO:-0800
TZNAME:PST
DTSTART:20261101T090000
END:STANDARD
END:VTIMEZONE
BEGIN:VEVENT
DTSTART;TZID=America/Los_Angeles:20250111T130000
DTEND;TZID=America/Los_Angeles:20250111T140000
DTSTAMP:20260425T032906
CREATED:20241218T015905Z
LAST-MODIFIED:20250109T010248Z
UID:10000222-1736600400-1736604000@fallbrookvintagecarclub.org
SUMMARY:Fallbrook Historical Society - History of Avocados
DESCRIPTION:Book Talk:  Please join us at the Fallbrook Historical Society to hear author Rob Crisell talk about The History of Avocados. \nAbout the Author  \nRob Crisell grew up in Fallbrook\, California\, in the heart of a three-acre avocado grove. After a career in publishing\, Rob is now a writer\, actor\, teacher\, and winemaker. Most recently\, he is the author of Temecula Valley Wineries and The Fantastic Fables of Aesop. He has written several other works for adults and children. He earned his bachelor’s degree from Yale University and his law degree from George Mason School of Law. Rob and his wife live in Temecula\, California. \nAbout the Book  \nThis is the first and only book on the 175-year history of the avocado in California. \nWhen avocados first arrived from Mexico in the early 1800s\, few Americans knew what to make of them. Intrepid settlers in California were among the first to embrace the savory green fruit\, sparking a century-long love affair that transformed the state into “Avocado Land.” From battling over the best avocado varieties to coaxing the public into trying the fruit by devising delicious recipes\, Golden State growers created a global phenomenon. Author Rob Crisell explores how California’s favorite fruit became one of the most famous and iconic foods of the twenty-first century. \nAs part of my exhaustive research on the subject\, I interviewed more than 30 growers\, distributors\, aficionados\, and academics throughout California. The book features 45 color photos and another 100 + black and white\, as well as recipes\, trivia\, and helpful appendices. It is both comprehensive and enjoyable to read. \nCalifornia Avocados: A Delicious History\nHistory Press (Imprint of Arcadia Publishing) – www.arcadiapublishing.com\nISBN: 978-1-4671-5817-6 (paperback)\nPublication date: November 5\, 2024\n197 pages \nFallbrook Historical Society \nCurators of Fallbrook History for 50 years \nThe Fallbrook Historical Society was founded in 1976 during the national Bicentennial as a non-profit organization to collect\, preserve\, and share the history of Greater Fallbrook. The Heritage Center Museum & Barn is located at the corner of Rocky Crest and Hill Ave. It is open every Saturday and Sunday from 1 pm to 4 pm.
URL:https://fallbrookvintagecarclub.org/event/fallbrook-historical-society-history-of-avocados/
LOCATION:Historical Socety Barn\, 1730 South Hill Avenue\, Fallbrook\, CA\, 92088\, United States
CATEGORIES:Social Event
ORGANIZER;CN="Gary Hesser":MAILTO:garyhesser@gmail.com
END:VEVENT
BEGIN:VEVENT
DTSTART;TZID=America/Los_Angeles:20240608T130000
DTEND;TZID=America/Los_Angeles:20240608T160000
DTSTAMP:20260425T032906
CREATED:20240603T221607Z
LAST-MODIFIED:20240603T221607Z
UID:10000152-1717851600-1717862400@fallbrookvintagecarclub.org
SUMMARY:Car Show at Historical Society
DESCRIPTION:The Historical Society has asked us to bring some of our vintage cars to their open house event on Saturday\, June 8th\, for 3 hours\, 1-4pm. I would like to see 10-12 cars there if we can muster them. The museum buildings will all be open and they are providing refreshments. \nThis will be very low key\, so plan to bring your chairs and cooler. It is a good time to just talk to people about your car and the club. I will organize the event and place the cars. If you can bring a car email me at mikemcguire@roadrunner.com\, call or text me at 714-323-1830 ASAP. Annette and I will bring our ’35 Graham. \nAll members are invited to join us and enjoy an afternoon at the Museum. If you haven’t toured all the buildings or seen our new exhibits then you are missing some of Fallbrook.
URL:https://fallbrookvintagecarclub.org/event/car-show-at-historical-society/
LOCATION:Historical Socety Barn\, 1730 South Hill Avenue\, Fallbrook\, CA\, 92088\, United States
CATEGORIES:Car Show
END:VEVENT
BEGIN:VEVENT
DTSTART;TZID=America/Los_Angeles:20230929T093000
DTEND;TZID=America/Los_Angeles:20230929T133000
DTSTAMP:20260425T032906
CREATED:20230223T212936Z
LAST-MODIFIED:20230921T003838Z
UID:10000038-1695979800-1695994200@fallbrookvintagecarclub.org
SUMMARY:Scavenger Hunt in Fallbrook
DESCRIPTION:Scavenger Hunt in Fallbrook.   Meet at Historical Society parking lot at 9:45. \nEat at Firehouse Que and Brew. \nDana and Debbie Meadows leaders. 
URL:https://fallbrookvintagecarclub.org/event/scavenger-hunt-in-fallbrook/
LOCATION:Historical Socety Barn\, 1730 South Hill Avenue\, Fallbrook\, CA\, 92088\, United States
CATEGORIES:Social Event,Tour
ORGANIZER;CN="Dana Meadows":MAILTO:danam500@verizon.net
END:VEVENT
END:VCALENDAR